BEGIN:VCALENDAR
VERSION:2.0
PRODID:-//Tukios.com/
BEGIN:VEVENT
UID:c2349d53-4627-49c9-8b88-2ad365fadfae@www.matthewsfamilymortuary.org
DTSTAMP:20260424T191307Z
DTSTART:20260424T200000Z
DTEND:20260424T220000Z
SUMMARY:Visitation
DESCRIPTION:
URL:https://www.matthewsfamilymortuary.org/obituaries/magdaleno-pasion
LOCATION:Matthews Family Mortuary 1000 N Winstead Ave  Rocky Mount NC 
	27804
GEO:35.9812312;-77.842462
END:VEVENT
END:VCALENDAR